BEGIN:VCALENDAR
VERSION:2.0
PRODID:-//hacksw/handcal//NONSGML v1.0//EN
CALSCALE:GREGORIAN
BEGIN:VEVENT
LOCATION:Burgess Park\, London
DESCRIPTION:just get in the water already
DTSTART:20260429T083000Z
DTEND:20260429T164500Z
SUMMARY:get in the water
URL;VALUE=URI:https://www.citizenticket.com/access-online/green-upheaval/get-in-the-water/141555/
DTSTAMP:20260423T160720Z
UID:69ea43b845321
END:VEVENT
END:VCALENDAR